BEGIN:VCALENDAR
VERSION:2.0
PRODID:-//Grabuge Mag - ECPv6.15.13.1//NONSGML v1.0//EN
CALSCALE:GREGORIAN
METHOD:PUBLISH
X-WR-CALNAME:Grabuge Mag
X-ORIGINAL-URL:https://devsite.grabugemag.com
X-WR-CALDESC:Évènements pour Grabuge Mag
REFRESH-INTERVAL;VALUE=DURATION:PT1H
X-Robots-Tag:noindex
X-PUBLISHED-TTL:PT1H
BEGIN:VTIMEZONE
TZID:Europe/Paris
BEGIN:DAYLIGHT
TZOFFSETFROM:+0100
TZOFFSETTO:+0200
TZNAME:CEST
DTSTART:20230326T010000
END:DAYLIGHT
BEGIN:STANDARD
TZOFFSETFROM:+0200
TZOFFSETTO:+0100
TZNAME:CET
DTSTART:20231029T010000
END:STANDARD
BEGIN:DAYLIGHT
TZOFFSETFROM:+0100
TZOFFSETTO:+0200
TZNAME:CEST
DTSTART:20240331T010000
END:DAYLIGHT
BEGIN:STANDARD
TZOFFSETFROM:+0200
TZOFFSETTO:+0100
TZNAME:CET
DTSTART:20241027T010000
END:STANDARD
BEGIN:DAYLIGHT
TZOFFSETFROM:+0100
TZOFFSETTO:+0200
TZNAME:CEST
DTSTART:20250330T010000
END:DAYLIGHT
BEGIN:STANDARD
TZOFFSETFROM:+0200
TZOFFSETTO:+0100
TZNAME:CET
DTSTART:20251026T010000
END:STANDARD
END:VTIMEZONE
BEGIN:VEVENT
DTSTART;TZID=Europe/Paris:20240517T190000
DTEND;TZID=Europe/Paris:20240517T220000
DTSTAMP:20260421T190037
CREATED:20240327T134804Z
LAST-MODIFIED:20240327T134804Z
UID:10009392-1715972400-1715983200@devsite.grabugemag.com
SUMMARY:1 heure de stand-up avec Kevin Robin
DESCRIPTION:Carte blanche à Kevin Robin pour le découvrir sur 1 heure de spectacle🎟️ Tarif : 12€🥃 Ouverture du bar à 17H30👉 InfosMicro Comedy Club59 Quai de la Fosse44 000 NANTESPour toute personne souhaitant revendre son billet\, elle peut le faire via notre partenaire TicketSwap \nhttps://www.facebook.com/events/1586875985409856/?event_time_id=1586875992076522
URL:https://devsite.grabugemag.com/evenement/1-heure-de-stand-up-avec-kevin-robin-13/
LOCATION:Micro Comedy Club\, 59 Quai de la Fosse\, 44000 Nantes\, France
CATEGORIES:Spectacle
ORGANIZER;CN="Micro Comedy Club":MAILTO:noreply@facebookmail.com
GEO:47.209981;-1.5648201
X-APPLE-STRUCTURED-LOCATION;VALUE=URI;X-ADDRESS=Micro Comedy Club 59 Quai de la Fosse 44000 Nantes France;X-APPLE-RADIUS=500;X-TITLE=59 Quai de la Fosse\, 44000 Nantes\, France:geo:-1.5648201,47.209981
END:VEVENT
BEGIN:VEVENT
DTSTART;TZID=Europe/Paris:20240512T190000
DTEND;TZID=Europe/Paris:20240512T220000
DTSTAMP:20260421T190037
CREATED:20240327T134740Z
LAST-MODIFIED:20240327T134740Z
UID:10009385-1715540400-1715551200@devsite.grabugemag.com
SUMMARY:1 heure de stand up avec Donel Jacksman
DESCRIPTION:Carte blanche à Donel Jacksman pour le découvrir sur 1 heure de spectacle🎟️ Tarif : 16€🥃 Ouverture du bar à 17H30👉 InfosMicro Comedy Club59 Quai de la Fosse44 000 NANTESPour toute personne souhaitant revendre son billet\, elle peut le faire via notre partenaire TicketSwap  \nhttps://www.facebook.com/events/7241948442564408/
URL:https://devsite.grabugemag.com/evenement/1-heure-de-stand-up-avec-donel-jacksman/
LOCATION:Micro Comedy Club\, 59 Quai de la Fosse\, 44000 Nantes\, France
CATEGORIES:Spectacle
ORGANIZER;CN="Micro Comedy Club":MAILTO:noreply@facebookmail.com
GEO:47.209981;-1.5648201
X-APPLE-STRUCTURED-LOCATION;VALUE=URI;X-ADDRESS=Micro Comedy Club 59 Quai de la Fosse 44000 Nantes France;X-APPLE-RADIUS=500;X-TITLE=59 Quai de la Fosse\, 44000 Nantes\, France:geo:-1.5648201,47.209981
END:VEVENT
BEGIN:VEVENT
DTSTART;TZID=Europe/Paris:20240510T190000
DTEND;TZID=Europe/Paris:20240510T220000
DTSTAMP:20260421T190037
CREATED:20240327T134722Z
LAST-MODIFIED:20240327T134722Z
UID:10009368-1715367600-1715378400@devsite.grabugemag.com
SUMMARY:1 heure de stand-up avec Kevin Robin
DESCRIPTION:Carte blanche à Kevin Robin pour le découvrir sur 1 heure de spectacle🎟️ Tarif : 12€🥃 Ouverture du bar à 17H30👉 InfosMicro Comedy Club59 Quai de la Fosse44 000 NANTESPour toute personne souhaitant revendre son billet\, elle peut le faire via notre partenaire TicketSwap \nhttps://www.facebook.com/events/1586875985409856/?event_time_id=1586876002076521
URL:https://devsite.grabugemag.com/evenement/1-heure-de-stand-up-avec-kevin-robin-12/
LOCATION:Micro Comedy Club\, 59 Quai de la Fosse\, 44000 Nantes\, France
CATEGORIES:Spectacle
ORGANIZER;CN="Micro Comedy Club":MAILTO:noreply@facebookmail.com
GEO:47.209981;-1.5648201
X-APPLE-STRUCTURED-LOCATION;VALUE=URI;X-ADDRESS=Micro Comedy Club 59 Quai de la Fosse 44000 Nantes France;X-APPLE-RADIUS=500;X-TITLE=59 Quai de la Fosse\, 44000 Nantes\, France:geo:-1.5648201,47.209981
END:VEVENT
BEGIN:VEVENT
DTSTART;TZID=Europe/Paris:20240508T190000
DTEND;TZID=Europe/Paris:20240508T200000
DTSTAMP:20260421T190037
CREATED:20240507T122312Z
LAST-MODIFIED:20240507T122312Z
UID:10005914-1715194800-1715198400@devsite.grabugemag.com
SUMMARY:Stand Up au Micro Comedy Club
DESCRIPTION:Venez découvrir le premier bar dédié au Stand-up de Nantes !Pour se marrer autour d’un verre et passer une soirée avec les meilleur·e·s humoristes Nantais·e·s.Retrouvez 4 humoristes sur scène pour plus d’une heure de spectacle !🕰 Mercredi & Jeudi : 19h00 & 20h15🕰 Vendredi : 19h00 & 20h15 & 21h30🕰 Samedi : 19h00 & 20h15 & 21h30 🎟️ Tarif : 10/12/14€➡️ Lien : https://www.billetweb.fr/pro/microcomedyclub1🥃 Ouverture du bar à 17H00👉 InfosMicro Comedy Club59 Quai de la Fosse44 000 NANTESPour toute personne souhaitant revendre son billet\, elle peut le faire via notre partenaire TicketSwap \nhttps://www.facebook.com/events/2190051121346473/?event_time_id=2190051211346464
URL:https://devsite.grabugemag.com/evenement/stand-up-au-micro-comedy-club-3/
LOCATION:Micro Comedy Club\, 59 Quai de la Fosse\, 44000 Nantes\, France
CATEGORIES:Spectacle
ORGANIZER;CN="Micro Comedy Club":MAILTO:noreply@facebookmail.com
GEO:47.209981;-1.5648201
X-APPLE-STRUCTURED-LOCATION;VALUE=URI;X-ADDRESS=Micro Comedy Club 59 Quai de la Fosse 44000 Nantes France;X-APPLE-RADIUS=500;X-TITLE=59 Quai de la Fosse\, 44000 Nantes\, France:geo:-1.5648201,47.209981
END:VEVENT
BEGIN:VEVENT
DTSTART;TZID=Europe/Paris:20240503T190000
DTEND;TZID=Europe/Paris:20240503T220000
DTSTAMP:20260421T190037
CREATED:20240327T134708Z
LAST-MODIFIED:20240327T134708Z
UID:10009353-1714762800-1714773600@devsite.grabugemag.com
SUMMARY:1 heure de stand-up avec Kevin Robin
DESCRIPTION:Carte blanche à Kevin Robin pour le découvrir sur 1 heure de spectacle🎟️ Tarif : 12€🥃 Ouverture du bar à 17H30👉 InfosMicro Comedy Club59 Quai de la Fosse44 000 NANTESPour toute personne souhaitant revendre son billet\, elle peut le faire via notre partenaire TicketSwap \nhttps://www.facebook.com/events/1586875985409856/?event_time_id=1586875998743188
URL:https://devsite.grabugemag.com/evenement/1-heure-de-stand-up-avec-kevin-robin-11/
LOCATION:Micro Comedy Club\, 59 Quai de la Fosse\, 44000 Nantes\, France
CATEGORIES:Spectacle
ORGANIZER;CN="Micro Comedy Club":MAILTO:noreply@facebookmail.com
GEO:47.209981;-1.5648201
X-APPLE-STRUCTURED-LOCATION;VALUE=URI;X-ADDRESS=Micro Comedy Club 59 Quai de la Fosse 44000 Nantes France;X-APPLE-RADIUS=500;X-TITLE=59 Quai de la Fosse\, 44000 Nantes\, France:geo:-1.5648201,47.209981
END:VEVENT
BEGIN:VEVENT
DTSTART;TZID=Europe/Paris:20240427T200000
DTEND;TZID=Europe/Paris:20240427T220000
DTSTAMP:20260421T190037
CREATED:20240327T134657Z
LAST-MODIFIED:20240327T134657Z
UID:10009326-1714248000-1714255200@devsite.grabugemag.com
SUMMARY:Micro Comedy 360° au Warehouse
DESCRIPTION:Le Micro Comedy Club revient avec ses chaises et ses tapis pour organiser une des plus grandes soirées Stand Up de France ! \nRendez-vous dans l’enceinte du Warehouse à Nantes\, totalement transformé en Comedy Club à 360° ! \nSur une scène inédite\, vous pourrez retrouver 6 humoristes avec de quoi boire & manger ! \nProgrammation 🎤  \n– Hugo Tout Seul – Nash– Rémi Boyes – Basile – Alexandra Roth – Hugo Le Van – Maxime Stockner \nOuverture des portes : 19h 00Début du spectacle : 20h 00 \n🔹🔹 BILLETTERIE-> https://www.warehouse-nantes.fr/event/micro-comedy-360-edition \n🔹🔹 INFOSWAREHOUSE21 Quai des Antilles44 000 Nantes \nhttps://www.facebook.com/events/805929791573245/
URL:https://devsite.grabugemag.com/evenement/micro-comedy-360-au-warehouse-3/
LOCATION:Warehouse\, Warehouse
CATEGORIES:Spectacle
ORGANIZER;CN="Micro Comedy Club":MAILTO:noreply@facebookmail.com
END:VEVENT
BEGIN:VEVENT
DTSTART;TZID=Europe/Paris:20240425T213000
DTEND;TZID=Europe/Paris:20240425T230000
DTSTAMP:20260421T190037
CREATED:20240327T134639Z
LAST-MODIFIED:20240327T134639Z
UID:10005577-1714080600-1714086000@devsite.grabugemag.com
SUMMARY:1 heure de stand up avec Hugo Le Van
DESCRIPTION:Carte blanche à Hugo Le Van pour le découvrir sur 1 heure de spectacle🎟️ Tarif : 12€🥃 Ouverture du bar à 17H30👉 InfosMicro Comedy Club59 Quai de la Fosse44 000 NANTESPour toute personne souhaitant revendre son billet\, elle peut le faire via notre partenaire TicketSwap \nhttps://www.facebook.com/events/405533252033836/?event_time_id=433100435943784
URL:https://devsite.grabugemag.com/evenement/1-heure-de-stand-up-avec-hugo-le-van-8/
LOCATION:Micro Comedy Club\, 59 Quai de la Fosse\, 44000 Nantes\, France
CATEGORIES:Spectacle
ORGANIZER;CN="Micro Comedy Club":MAILTO:noreply@facebookmail.com
GEO:47.209981;-1.5648201
X-APPLE-STRUCTURED-LOCATION;VALUE=URI;X-ADDRESS=Micro Comedy Club 59 Quai de la Fosse 44000 Nantes France;X-APPLE-RADIUS=500;X-TITLE=59 Quai de la Fosse\, 44000 Nantes\, France:geo:-1.5648201,47.209981
END:VEVENT
BEGIN:VEVENT
DTSTART;TZID=Europe/Paris:20240421T190000
DTEND;TZID=Europe/Paris:20240421T220000
DTSTAMP:20260421T190037
CREATED:20240327T134632Z
LAST-MODIFIED:20240327T134632Z
UID:10009311-1713726000-1713736800@devsite.grabugemag.com
SUMMARY:1 heure de stand up avec Lise Dehurtevent
DESCRIPTION:Carte blanche à Lise Dehurtevent pour la découvrir sur 1 heure de spectacle🎟️ Tarif : 12€🥃 Ouverture du bar à 17H30👉 InfosMicro Comedy Club59 Quai de la Fosse44 000 NANTESPour toute personne souhaitant revendre son billet\, elle peut le faire via notre partenaire TicketSwap \nhttps://www.facebook.com/events/287483447698506/
URL:https://devsite.grabugemag.com/evenement/1-heure-de-stand-up-avec-lise-dehurtevent/
LOCATION:Micro Comedy Club\, 59 Quai de la Fosse\, 44000 Nantes\, France
CATEGORIES:Spectacle
ORGANIZER;CN="Micro Comedy Club":MAILTO:noreply@facebookmail.com
GEO:47.209981;-1.5648201
X-APPLE-STRUCTURED-LOCATION;VALUE=URI;X-ADDRESS=Micro Comedy Club 59 Quai de la Fosse 44000 Nantes France;X-APPLE-RADIUS=500;X-TITLE=59 Quai de la Fosse\, 44000 Nantes\, France:geo:-1.5648201,47.209981
END:VEVENT
BEGIN:VEVENT
DTSTART;TZID=Europe/Paris:20240418T213000
DTEND;TZID=Europe/Paris:20240418T230000
DTSTAMP:20260421T190037
CREATED:20240327T134628Z
LAST-MODIFIED:20240327T134628Z
UID:10009304-1713475800-1713481200@devsite.grabugemag.com
SUMMARY:1 heure de stand up avec Hugo Le Van
DESCRIPTION:Carte blanche à Hugo Le Van pour le découvrir sur 1 heure de spectacle🎟️ Tarif : 12€🥃 Ouverture du bar à 17H30👉 InfosMicro Comedy Club59 Quai de la Fosse44 000 NANTESPour toute personne souhaitant revendre son billet\, elle peut le faire via notre partenaire TicketSwap \nhttps://www.facebook.com/events/405533252033836/?event_time_id=433100439277117
URL:https://devsite.grabugemag.com/evenement/1-heure-de-stand-up-avec-hugo-le-van-7/
LOCATION:Micro Comedy Club\, 59 Quai de la Fosse\, 44000 Nantes\, France
CATEGORIES:Spectacle
ORGANIZER;CN="Micro Comedy Club":MAILTO:noreply@facebookmail.com
GEO:47.209981;-1.5648201
X-APPLE-STRUCTURED-LOCATION;VALUE=URI;X-ADDRESS=Micro Comedy Club 59 Quai de la Fosse 44000 Nantes France;X-APPLE-RADIUS=500;X-TITLE=59 Quai de la Fosse\, 44000 Nantes\, France:geo:-1.5648201,47.209981
END:VEVENT
BEGIN:VEVENT
DTSTART;TZID=Europe/Paris:20240414T203000
DTEND;TZID=Europe/Paris:20240414T233000
DTSTAMP:20260421T190037
CREATED:20240327T134624Z
LAST-MODIFIED:20240327T134624Z
UID:10009295-1713126600-1713137400@devsite.grabugemag.com
SUMMARY:1 heure de stand up avec Cab Cab
DESCRIPTION:Carte blanche à Cab Cab pour la découvrir sur 1 heure de spectacle🎟️ Tarif : 12€🥃 Ouverture du bar à 17H30👉 InfosMicro Comedy Club59 Quai de la Fosse44 000 NANTESPour toute personne souhaitant revendre son billet\, elle peut le faire via notre partenaire TicketSwap \nhttps://www.facebook.com/events/2447112225676519/
URL:https://devsite.grabugemag.com/evenement/1-heure-de-stand-up-avec-cab-cab-2/
LOCATION:Micro Comedy Club\, 59 Quai de la Fosse\, 44000 Nantes\, France
CATEGORIES:Spectacle
ORGANIZER;CN="Micro Comedy Club":MAILTO:noreply@facebookmail.com
GEO:47.209981;-1.5648201
X-APPLE-STRUCTURED-LOCATION;VALUE=URI;X-ADDRESS=Micro Comedy Club 59 Quai de la Fosse 44000 Nantes France;X-APPLE-RADIUS=500;X-TITLE=59 Quai de la Fosse\, 44000 Nantes\, France:geo:-1.5648201,47.209981
END:VEVENT
BEGIN:VEVENT
DTSTART;TZID=Europe/Paris:20240414T190000
DTEND;TZID=Europe/Paris:20240414T220000
DTSTAMP:20260421T190037
CREATED:20240327T134623Z
LAST-MODIFIED:20240327T134623Z
UID:10009291-1713121200-1713132000@devsite.grabugemag.com
SUMMARY:1 heure de stand up avec Yassine Daoudi
DESCRIPTION:Carte blanche à Yassine Daoudi pour le découvrir sur 1 heure de spectacle🎟️ Tarif : 12€🥃 Ouverture du bar à 17H30👉 InfosMicro Comedy Club59 Quai de la Fosse44 000 NANTESPour toute personne souhaitant revendre son billet\, elle peut le faire via notre partenaire TicketSwap  \nhttps://www.facebook.com/events/367555319417215/
URL:https://devsite.grabugemag.com/evenement/1-heure-de-stand-up-avec-yassine-daoudi/
LOCATION:Micro Comedy Club\, 59 Quai de la Fosse\, 44000 Nantes\, France
CATEGORIES:Spectacle
ORGANIZER;CN="Micro Comedy Club":MAILTO:noreply@facebookmail.com
GEO:47.209981;-1.5648201
X-APPLE-STRUCTURED-LOCATION;VALUE=URI;X-ADDRESS=Micro Comedy Club 59 Quai de la Fosse 44000 Nantes France;X-APPLE-RADIUS=500;X-TITLE=59 Quai de la Fosse\, 44000 Nantes\, France:geo:-1.5648201,47.209981
END:VEVENT
BEGIN:VEVENT
DTSTART;TZID=Europe/Paris:20240411T213000
DTEND;TZID=Europe/Paris:20240411T230000
DTSTAMP:20260421T190037
CREATED:20240327T134619Z
LAST-MODIFIED:20240327T134619Z
UID:10009290-1712871000-1712876400@devsite.grabugemag.com
SUMMARY:1 heure de stand up avec Hugo Le Van
DESCRIPTION:Carte blanche à Hugo Le Van pour le découvrir sur 1 heure de spectacle🎟️ Tarif : 12€🥃 Ouverture du bar à 17H30👉 InfosMicro Comedy Club59 Quai de la Fosse44 000 NANTESPour toute personne souhaitant revendre son billet\, elle peut le faire via notre partenaire TicketSwap \nhttps://www.facebook.com/events/405533252033836/?event_time_id=433100442610450
URL:https://devsite.grabugemag.com/evenement/1-heure-de-stand-up-avec-hugo-le-van-6/
LOCATION:Micro Comedy Club\, 59 Quai de la Fosse\, 44000 Nantes\, France
CATEGORIES:Spectacle
ORGANIZER;CN="Micro Comedy Club":MAILTO:noreply@facebookmail.com
GEO:47.209981;-1.5648201
X-APPLE-STRUCTURED-LOCATION;VALUE=URI;X-ADDRESS=Micro Comedy Club 59 Quai de la Fosse 44000 Nantes France;X-APPLE-RADIUS=500;X-TITLE=59 Quai de la Fosse\, 44000 Nantes\, France:geo:-1.5648201,47.209981
END:VEVENT
BEGIN:VEVENT
DTSTART;TZID=Europe/Paris:20240407T190000
DTEND;TZID=Europe/Paris:20240407T220000
DTSTAMP:20260421T190037
CREATED:20240222T114302Z
LAST-MODIFIED:20240327T123216Z
UID:10007840-1712516400-1712527200@devsite.grabugemag.com
SUMMARY:1 heure de stand-up avec Jihef
DESCRIPTION:Carte blanche à Jihef pour le découvrir sur 1 heure de spectacle🎟️ Tarif : 12€🥃 Ouverture du bar à 17H30👉 InfosMicro Comedy Club59 Quai de la Fosse44 000 NANTESPour toute personne souhaitant revendre son billet\, elle peut le faire via notre partenaire TicketSwap \nhttps://www.facebook.com/events/1123929458606506/
URL:https://devsite.grabugemag.com/evenement/1-heure-de-stand-up-avec-jihef/
LOCATION:Micro Comedy Club\, 59 Quai de la Fosse\, 44000 Nantes\, France
CATEGORIES:Concert
ATTACH;FMTTYPE=image/jpeg:https://devsite.grabugemag.com/wp-content/uploads/2024/02/4166884_image_424888559_844514004331805_3505554323351634348_n.jpg
ORGANIZER;CN="Micro Comedy Club":MAILTO:noreply@facebookmail.com
GEO:47.209981;-1.5648201
X-APPLE-STRUCTURED-LOCATION;VALUE=URI;X-ADDRESS=Micro Comedy Club 59 Quai de la Fosse 44000 Nantes France;X-APPLE-RADIUS=500;X-TITLE=59 Quai de la Fosse\, 44000 Nantes\, France:geo:-1.5648201,47.209981
END:VEVENT
BEGIN:VEVENT
DTSTART;TZID=Europe/Paris:20240404T213000
DTEND;TZID=Europe/Paris:20240404T230000
DTSTAMP:20260421T190037
CREATED:20240327T134603Z
LAST-MODIFIED:20240327T134603Z
UID:10005562-1712266200-1712271600@devsite.grabugemag.com
SUMMARY:1 heure de stand up avec Hugo Le Van
DESCRIPTION:Carte blanche à Hugo Le Van pour le découvrir sur 1 heure de spectacle🎟️ Tarif : 12€🥃 Ouverture du bar à 17H30👉 InfosMicro Comedy Club59 Quai de la Fosse44 000 NANTESPour toute personne souhaitant revendre son billet\, elle peut le faire via notre partenaire TicketSwap \nhttps://www.facebook.com/events/405533252033836/?event_time_id=433100445943783
URL:https://devsite.grabugemag.com/evenement/1-heure-de-stand-up-avec-hugo-le-van-5/
LOCATION:Micro Comedy Club\, 59 Quai de la Fosse\, 44000 Nantes\, France
CATEGORIES:Spectacle
ORGANIZER;CN="Micro Comedy Club":MAILTO:noreply@facebookmail.com
GEO:47.209981;-1.5648201
X-APPLE-STRUCTURED-LOCATION;VALUE=URI;X-ADDRESS=Micro Comedy Club 59 Quai de la Fosse 44000 Nantes France;X-APPLE-RADIUS=500;X-TITLE=59 Quai de la Fosse\, 44000 Nantes\, France:geo:-1.5648201,47.209981
END:VEVENT
END:VCALENDAR